BEGIN:VCALENDAR
VERSION:2.0
PRODID:-//Raúl de Dios - ECPv6.15.20//NONSGML v1.0//EN
CALSCALE:GREGORIAN
METHOD:PUBLISH
X-WR-CALNAME:Raúl de Dios
X-ORIGINAL-URL:https://rauldedios.com
X-WR-CALDESC:Eventos para Raúl de Dios
REFRESH-INTERVAL;VALUE=DURATION:PT1H
X-Robots-Tag:noindex
X-PUBLISHED-TTL:PT1H
BEGIN:VTIMEZONE
TZID:UTC
BEGIN:STANDARD
TZOFFSETFROM:+0000
TZOFFSETTO:+0000
TZNAME:UTC
DTSTART:20220101T000000
END:STANDARD
END:VTIMEZONE
BEGIN:VEVENT
DTSTART;TZID=UTC:20230725T080000
DTEND;TZID=UTC:20230725T170000
DTSTAMP:20260421T081812
CREATED:20230628T192101Z
LAST-MODIFIED:20230628T192101Z
UID:63-1690272000-1690304400@rauldedios.com
SUMMARY:ALMENDRA
DESCRIPTION:
URL:https://rauldedios.com/event/almendra/
END:VEVENT
BEGIN:VEVENT
DTSTART;TZID=UTC:20230718T080000
DTEND;TZID=UTC:20230718T170000
DTSTAMP:20260421T081812
CREATED:20230628T191949Z
LAST-MODIFIED:20230628T192026Z
UID:61-1689667200-1689699600@rauldedios.com
SUMMARY:VILLASBUENAS
DESCRIPTION:Concierto Raúl de Dios en Villasbuenas
URL:https://rauldedios.com/event/villasbuenas/
END:VEVENT
BEGIN:VEVENT
DTSTART;TZID=UTC:20230715T100000
DTEND;TZID=UTC:20230715T140000
DTSTAMP:20260421T081812
CREATED:20230629T133158Z
LAST-MODIFIED:20230629T133315Z
UID:293-1689415200-1689429600@rauldedios.com
SUMMARY:TALLER DE ACORDEÓN EN LA MÚSICA POPULAR
DESCRIPTION:
URL:https://rauldedios.com/event/taller-de-acordeon-en-la-musica-popular/
LOCATION:CASA DE CULTURA DE CIUDAD RODRIGO\, CIUDAD RODRIGO\, España
END:VEVENT
BEGIN:VEVENT
DTSTART;TZID=UTC:20230714T100000
DTEND;TZID=UTC:20230714T140000
DTSTAMP:20260421T081812
CREATED:20230629T130714Z
LAST-MODIFIED:20230629T130821Z
UID:287-1689328800-1689343200@rauldedios.com
SUMMARY:TALLER DE PERCUSIÓN E IMPROVISACIÓN
DESCRIPTION:
URL:https://rauldedios.com/event/taller-de-percusion-e-improvisacion/
END:VEVENT
BEGIN:VEVENT
DTSTART;TZID=UTC:20230713T100000
DTEND;TZID=UTC:20230713T140000
DTSTAMP:20260421T081812
CREATED:20230629T015422Z
LAST-MODIFIED:20230629T015422Z
UID:218-1689242400-1689256800@rauldedios.com
SUMMARY:TALLER DE GRABACIÓN Y PRODUCCIÓN MUSICAL
DESCRIPTION:
URL:https://rauldedios.com/event/taller-de-grabacion-y-produccion-musical/
END:VEVENT
BEGIN:VEVENT
DTSTART;TZID=UTC:20230712T100000
DTEND;TZID=UTC:20230712T140000
DTSTAMP:20260421T081812
CREATED:20230629T014912Z
LAST-MODIFIED:20230629T124600Z
UID:215-1689156000-1689170400@rauldedios.com
SUMMARY:TALLER DE MÚSICA FOLK
DESCRIPTION:Jornadas Cultura Tradicional Rayana. Ciudad Rodrigo. Julio 2023
URL:https://rauldedios.com/event/taller-de-musica/
LOCATION:CIUDAD RODRIGO\, CIUDAD RODRIGO\, España
END:VEVENT
BEGIN:VEVENT
DTSTART;TZID=UTC:20230702T180000
DTEND;TZID=UTC:20230702T180000
DTSTAMP:20260421T081812
CREATED:20230628T191915Z
LAST-MODIFIED:20230629T032048Z
UID:58-1688320800-1688320800@rauldedios.com
SUMMARY:BERROCAL DE SALVATIERRA
DESCRIPTION:
URL:https://rauldedios.com/event/berrocal-de-salvatierra/
LOCATION:BERROCAL DE SALVATIERRA\, España
END:VEVENT
END:VCALENDAR